BEGIN:VCALENDAR
VERSION:2.0
PRODID:-//Cevi Dietikon - ECPv6.15.17//NONSGML v1.0//EN
CALSCALE:GREGORIAN
METHOD:PUBLISH
X-ORIGINAL-URL:https://cevi-dietikon.ch
X-WR-CALDESC:Veranstaltungen für Cevi Dietikon
REFRESH-INTERVAL;VALUE=DURATION:PT1H
X-Robots-Tag:noindex
X-PUBLISHED-TTL:PT1H
BEGIN:VTIMEZONE
TZID:Europe/Zurich
BEGIN:DAYLIGHT
TZOFFSETFROM:+0100
TZOFFSETTO:+0200
TZNAME:CEST
DTSTART:20250330T010000
END:DAYLIGHT
BEGIN:STANDARD
TZOFFSETFROM:+0200
TZOFFSETTO:+0100
TZNAME:CET
DTSTART:20251026T010000
END:STANDARD
BEGIN:DAYLIGHT
TZOFFSETFROM:+0100
TZOFFSETTO:+0200
TZNAME:CEST
DTSTART:20260329T010000
END:DAYLIGHT
BEGIN:STANDARD
TZOFFSETFROM:+0200
TZOFFSETTO:+0100
TZNAME:CET
DTSTART:20261025T010000
END:STANDARD
BEGIN:DAYLIGHT
TZOFFSETFROM:+0100
TZOFFSETTO:+0200
TZNAME:CEST
DTSTART:20270328T010000
END:DAYLIGHT
BEGIN:STANDARD
TZOFFSETFROM:+0200
TZOFFSETTO:+0100
TZNAME:CET
DTSTART:20271031T010000
END:STANDARD
END:VTIMEZONE
BEGIN:VEVENT
DTSTART;TZID=Europe/Zurich:20261205T140000
DTEND;TZID=Europe/Zurich:20261205T170000
DTSTAMP:20260421T235053
CREATED:20260204T233442Z
LAST-MODIFIED:20260204T233442Z
UID:31044-1796479200-1796490000@cevi-dietikon.ch
SUMMARY:Cevi & Fröschli
DESCRIPTION:
URL:https://cevi-dietikon.ch/event/cevi-froeschli-36
LOCATION:Treffpunkt Männer: Ref. Kirche Dietikon / Treffpunkt Frauen: Ref. Kirchgemeindehaus Dietikon (unterer Eingang)
CATEGORIES:Cevi-Programm,Fröschli-Programm
END:VEVENT
BEGIN:VEVENT
DTSTART;TZID=Europe/Zurich:20261212T140000
DTEND;TZID=Europe/Zurich:20261212T170000
DTSTAMP:20260421T235053
CREATED:20260204T233523Z
LAST-MODIFIED:20260204T233523Z
UID:31046-1797084000-1797094800@cevi-dietikon.ch
SUMMARY:Cevi
DESCRIPTION:
URL:https://cevi-dietikon.ch/event/cevi-49
LOCATION:Treffpunkt Männer: Ref. Kirche Dietikon / Treffpunkt Frauen: Ref. Kirchgemeindehaus Dietikon (unterer Eingang)
CATEGORIES:Cevi-Programm
END:VEVENT
BEGIN:VEVENT
DTSTART;TZID=Europe/Zurich:20261212T173000
DTEND;TZID=Europe/Zurich:20261212T193000
DTSTAMP:20260421T235053
CREATED:20260204T233608Z
LAST-MODIFIED:20260204T233608Z
UID:31048-1797096600-1797103800@cevi-dietikon.ch
SUMMARY:Cevi-Waldweihnacht
DESCRIPTION:
URL:https://cevi-dietikon.ch/event/cevi-waldweihnacht-5
LOCATION:Ref. Kirche Dietikon\, Sonneggstrasse\, 8953 Dietikon\, Schweiz
CATEGORIES:öffentliche Veranstaltung
END:VEVENT
BEGIN:VEVENT
DTSTART;TZID=Europe/Zurich:20261213T163000
DTEND;TZID=Europe/Zurich:20261213T180000
DTSTAMP:20260421T235053
CREATED:20260204T233638Z
LAST-MODIFIED:20260204T233638Z
UID:31050-1797179400-1797184800@cevi-dietikon.ch
SUMMARY:Cevi-Weihnachtsspiel
DESCRIPTION:
URL:https://cevi-dietikon.ch/event/cevi-weihnachtsspiel-5
LOCATION:Ref. Kirchgemeindehaus Dietikon\, Poststrasse 50\, 8953 Dietikon\, Schweiz
CATEGORIES:öffentliche Veranstaltung
END:VEVENT
END:VCALENDAR