BEGIN:VCALENDAR
VERSION:2.0
PRODID:-//Cevi Dietikon - ECPv6.15.17//NONSGML v1.0//EN
CALSCALE:GREGORIAN
METHOD:PUBLISH
X-ORIGINAL-URL:https://cevi-dietikon.ch
X-WR-CALDESC:Veranstaltungen für Cevi Dietikon
REFRESH-INTERVAL;VALUE=DURATION:PT1H
X-Robots-Tag:noindex
X-PUBLISHED-TTL:PT1H
BEGIN:VTIMEZONE
TZID:Europe/Zurich
BEGIN:DAYLIGHT
TZOFFSETFROM:+0100
TZOFFSETTO:+0200
TZNAME:CEST
DTSTART:20250330T010000
END:DAYLIGHT
BEGIN:STANDARD
TZOFFSETFROM:+0200
TZOFFSETTO:+0100
TZNAME:CET
DTSTART:20251026T010000
END:STANDARD
BEGIN:DAYLIGHT
TZOFFSETFROM:+0100
TZOFFSETTO:+0200
TZNAME:CEST
DTSTART:20260329T010000
END:DAYLIGHT
BEGIN:STANDARD
TZOFFSETFROM:+0200
TZOFFSETTO:+0100
TZNAME:CET
DTSTART:20261025T010000
END:STANDARD
BEGIN:DAYLIGHT
TZOFFSETFROM:+0100
TZOFFSETTO:+0200
TZNAME:CEST
DTSTART:20270328T010000
END:DAYLIGHT
BEGIN:STANDARD
TZOFFSETFROM:+0200
TZOFFSETTO:+0100
TZNAME:CET
DTSTART:20271031T010000
END:STANDARD
END:VTIMEZONE
BEGIN:VEVENT
DTSTART;TZID=Europe/Zurich:20260704T140000
DTEND;TZID=Europe/Zurich:20260704T170000
DTSTAMP:20260421T160327
CREATED:20260204T232721Z
LAST-MODIFIED:20260204T232721Z
UID:31021-1783173600-1783184400@cevi-dietikon.ch
SUMMARY:Cevi & Fröschli
DESCRIPTION:
URL:https://cevi-dietikon.ch/event/cevi-froeschli-31
LOCATION:Treffpunkt Männer: Ref. Kirche Dietikon / Treffpunkt Frauen: Ref. Kirchgemeindehaus Dietikon (unterer Eingang)
CATEGORIES:Cevi-Programm,Fröschli-Programm
END:VEVENT
BEGIN:VEVENT
DTSTART;VALUE=DATE:20260711
DTEND;VALUE=DATE:20260719
DTSTAMP:20260421T160327
CREATED:20260204T232859Z
LAST-MODIFIED:20260204T232859Z
UID:31023-1783728000-1784419199@cevi-dietikon.ch
SUMMARY:Sommerlager
DESCRIPTION:
URL:https://cevi-dietikon.ch/event/sommerlager-4
LOCATION:Lenzerheide
CATEGORIES:Lager
END:VEVENT
END:VCALENDAR