BEGIN:VCALENDAR
VERSION:2.0
PRODID:-//Cevi Dietikon - ECPv6.15.17//NONSGML v1.0//EN
CALSCALE:GREGORIAN
METHOD:PUBLISH
X-ORIGINAL-URL:https://cevi-dietikon.ch
X-WR-CALDESC:Veranstaltungen für Cevi Dietikon
REFRESH-INTERVAL;VALUE=DURATION:PT1H
X-Robots-Tag:noindex
X-PUBLISHED-TTL:PT1H
BEGIN:VTIMEZONE
TZID:Europe/Zurich
BEGIN:DAYLIGHT
TZOFFSETFROM:+0100
TZOFFSETTO:+0200
TZNAME:CEST
DTSTART:20250330T010000
END:DAYLIGHT
BEGIN:STANDARD
TZOFFSETFROM:+0200
TZOFFSETTO:+0100
TZNAME:CET
DTSTART:20251026T010000
END:STANDARD
BEGIN:DAYLIGHT
TZOFFSETFROM:+0100
TZOFFSETTO:+0200
TZNAME:CEST
DTSTART:20260329T010000
END:DAYLIGHT
BEGIN:STANDARD
TZOFFSETFROM:+0200
TZOFFSETTO:+0100
TZNAME:CET
DTSTART:20261025T010000
END:STANDARD
BEGIN:DAYLIGHT
TZOFFSETFROM:+0100
TZOFFSETTO:+0200
TZNAME:CEST
DTSTART:20270328T010000
END:DAYLIGHT
BEGIN:STANDARD
TZOFFSETFROM:+0200
TZOFFSETTO:+0100
TZNAME:CET
DTSTART:20271031T010000
END:STANDARD
END:VTIMEZONE
BEGIN:VEVENT
DTSTART;TZID=Europe/Zurich:20260509T074500
DTEND;TZID=Europe/Zurich:20260509T150000
DTSTAMP:20260421T133116
CREATED:20260204T232233Z
LAST-MODIFIED:20260204T232233Z
UID:31005-1778312700-1778338800@cevi-dietikon.ch
SUMMARY:Papiersammlung
DESCRIPTION:
URL:https://cevi-dietikon.ch/event/papiersammlung-5
LOCATION:Dietikon
CATEGORIES:Leiterveranstaltung,öffentliche Veranstaltung
END:VEVENT
BEGIN:VEVENT
DTSTART;TZID=Europe/Zurich:20260512T190000
DTEND;TZID=Europe/Zurich:20260512T193000
DTSTAMP:20260421T133116
CREATED:20260204T232315Z
LAST-MODIFIED:20260204T232315Z
UID:31007-1778612400-1778614200@cevi-dietikon.ch
SUMMARY:Generalversammlung
DESCRIPTION:
URL:https://cevi-dietikon.ch/event/generalversammlung-4
LOCATION:Mastwurf\, Bremgartnerstrasse 47\, 8953 Dietikon\, Schweiz
CATEGORIES:öffentliche Veranstaltung
END:VEVENT
BEGIN:VEVENT
DTSTART;TZID=Europe/Zurich:20260512T193000
DTEND;TZID=Europe/Zurich:20260512T203000
DTSTAMP:20260421T133116
CREATED:20260204T232400Z
LAST-MODIFIED:20260204T232400Z
UID:31009-1778614200-1778617800@cevi-dietikon.ch
SUMMARY:Mixhöck
DESCRIPTION:nur für Leiter:innen
URL:https://cevi-dietikon.ch/event/mixhoeck-19
LOCATION:Mastwurf\, Bremgartnerstrasse 47\, 8953 Dietikon\, Schweiz
CATEGORIES:Leiterveranstaltung
END:VEVENT
BEGIN:VEVENT
DTSTART;TZID=Europe/Zurich:20260523T100000
DTEND;TZID=Europe/Zurich:20260525T160000
DTSTAMP:20260421T133116
CREATED:20260204T232443Z
LAST-MODIFIED:20260204T232443Z
UID:31011-1779530400-1779724800@cevi-dietikon.ch
SUMMARY:Pfingstlager
DESCRIPTION:
URL:https://cevi-dietikon.ch/event/pfingstlager-5
CATEGORIES:Lager
END:VEVENT
BEGIN:VEVENT
DTSTART;TZID=Europe/Zurich:20260530T140000
DTEND;TZID=Europe/Zurich:20260530T170000
DTSTAMP:20260421T133116
CREATED:20260204T232512Z
LAST-MODIFIED:20260204T232512Z
UID:31013-1780149600-1780160400@cevi-dietikon.ch
SUMMARY:Cevi & Fröschli
DESCRIPTION:
URL:https://cevi-dietikon.ch/event/cevi-froeschli-29
LOCATION:Treffpunkt Männer: Ref. Kirche Dietikon / Treffpunkt Frauen: Ref. Kirchgemeindehaus Dietikon (unterer Eingang)
CATEGORIES:Cevi-Programm,Fröschli-Programm
END:VEVENT
END:VCALENDAR