BEGIN:VCALENDAR
VERSION:2.0
PRODID:-//Cevi Dietikon - ECPv6.15.17//NONSGML v1.0//EN
CALSCALE:GREGORIAN
METHOD:PUBLISH
X-WR-CALNAME:Cevi Dietikon
X-ORIGINAL-URL:https://cevi-dietikon.ch
X-WR-CALDESC:Veranstaltungen für Cevi Dietikon
REFRESH-INTERVAL;VALUE=DURATION:PT1H
X-Robots-Tag:noindex
X-PUBLISHED-TTL:PT1H
BEGIN:VTIMEZONE
TZID:Europe/Zurich
BEGIN:DAYLIGHT
TZOFFSETFROM:+0100
TZOFFSETTO:+0200
TZNAME:CEST
DTSTART:20250330T010000
END:DAYLIGHT
BEGIN:STANDARD
TZOFFSETFROM:+0200
TZOFFSETTO:+0100
TZNAME:CET
DTSTART:20251026T010000
END:STANDARD
BEGIN:DAYLIGHT
TZOFFSETFROM:+0100
TZOFFSETTO:+0200
TZNAME:CEST
DTSTART:20260329T010000
END:DAYLIGHT
BEGIN:STANDARD
TZOFFSETFROM:+0200
TZOFFSETTO:+0100
TZNAME:CET
DTSTART:20261025T010000
END:STANDARD
BEGIN:DAYLIGHT
TZOFFSETFROM:+0100
TZOFFSETTO:+0200
TZNAME:CEST
DTSTART:20270328T010000
END:DAYLIGHT
BEGIN:STANDARD
TZOFFSETFROM:+0200
TZOFFSETTO:+0100
TZNAME:CET
DTSTART:20271031T010000
END:STANDARD
END:VTIMEZONE
BEGIN:VEVENT
DTSTART;TZID=Europe/Zurich:20260307T090000
DTEND;TZID=Europe/Zurich:20260307T140000
DTSTAMP:20260421T133001
CREATED:20260204T231740Z
LAST-MODIFIED:20260204T231740Z
UID:30995-1772874000-1772892000@cevi-dietikon.ch
SUMMARY:Cevi-Flohmarkt
DESCRIPTION:
URL:https://cevi-dietikon.ch/event/cevi-flohmarkt-2
LOCATION:Ref. Kirchgemeindehaus Dietikon\, Poststrasse 50\, 8953 Dietikon\, Schweiz
CATEGORIES:öffentliche Veranstaltung
END:VEVENT
BEGIN:VEVENT
DTSTART;TZID=Europe/Zurich:20260313T190000
DTEND;TZID=Europe/Zurich:20260315T180000
DTSTAMP:20260421T133001
CREATED:20260204T232010Z
LAST-MODIFIED:20260204T232010Z
UID:30997-1773428400-1773597600@cevi-dietikon.ch
SUMMARY:Skiweekend
DESCRIPTION:nur für Leiter:innen
URL:https://cevi-dietikon.ch/event/skiweekend-5
LOCATION:Flumserberg
CATEGORIES:Leiterveranstaltung
END:VEVENT
BEGIN:VEVENT
DTSTART;TZID=Europe/Zurich:20260317T190000
DTEND;TZID=Europe/Zurich:20260317T203000
DTSTAMP:20260421T133001
CREATED:20260204T232045Z
LAST-MODIFIED:20260204T232045Z
UID:30999-1773774000-1773779400@cevi-dietikon.ch
SUMMARY:Mixhöck
DESCRIPTION:nur für Leiter:innen
URL:https://cevi-dietikon.ch/event/mixhoeck-18
LOCATION:Mastwurf\, Bremgartnerstrasse 47\, 8953 Dietikon\, Schweiz
CATEGORIES:Leiterveranstaltung
END:VEVENT
BEGIN:VEVENT
DTSTART;TZID=Europe/Zurich:20260328T140000
DTEND;TZID=Europe/Zurich:20260328T170000
DTSTAMP:20260421T133001
CREATED:20260204T232119Z
LAST-MODIFIED:20260204T232119Z
UID:31001-1774706400-1774717200@cevi-dietikon.ch
SUMMARY:Cevi & Fröschli
DESCRIPTION:
URL:https://cevi-dietikon.ch/event/cevi-froeschli-27
LOCATION:Treffpunkt Männer: Ref. Kirche Dietikon / Treffpunkt Frauen: Ref. Kirchgemeindehaus Dietikon (unterer Eingang)
CATEGORIES:Cevi-Programm,Fröschli-Programm
END:VEVENT
END:VCALENDAR