BEGIN:VCALENDAR
VERSION:2.0
PRODID:-//Cevi Dietikon - ECPv6.15.17//NONSGML v1.0//EN
CALSCALE:GREGORIAN
METHOD:PUBLISH
X-WR-CALNAME:Cevi Dietikon
X-ORIGINAL-URL:https://cevi-dietikon.ch
X-WR-CALDESC:Veranstaltungen für Cevi Dietikon
REFRESH-INTERVAL;VALUE=DURATION:PT1H
X-Robots-Tag:noindex
X-PUBLISHED-TTL:PT1H
BEGIN:VTIMEZONE
TZID:Europe/Zurich
BEGIN:DAYLIGHT
TZOFFSETFROM:+0100
TZOFFSETTO:+0200
TZNAME:CEST
DTSTART:20240331T010000
END:DAYLIGHT
BEGIN:STANDARD
TZOFFSETFROM:+0200
TZOFFSETTO:+0100
TZNAME:CET
DTSTART:20241027T010000
END:STANDARD
BEGIN:DAYLIGHT
TZOFFSETFROM:+0100
TZOFFSETTO:+0200
TZNAME:CEST
DTSTART:20250330T010000
END:DAYLIGHT
BEGIN:STANDARD
TZOFFSETFROM:+0200
TZOFFSETTO:+0100
TZNAME:CET
DTSTART:20251026T010000
END:STANDARD
BEGIN:DAYLIGHT
TZOFFSETFROM:+0100
TZOFFSETTO:+0200
TZNAME:CEST
DTSTART:20260329T010000
END:DAYLIGHT
BEGIN:STANDARD
TZOFFSETFROM:+0200
TZOFFSETTO:+0100
TZNAME:CET
DTSTART:20261025T010000
END:STANDARD
END:VTIMEZONE
BEGIN:VEVENT
DTSTART;TZID=Europe/Zurich:20250510T140000
DTEND;TZID=Europe/Zurich:20250510T170000
DTSTAMP:20260422T042409
CREATED:20240930T210645Z
LAST-MODIFIED:20240930T210645Z
UID:30254-1746885600-1746896400@cevi-dietikon.ch
SUMMARY:Cevi
DESCRIPTION:
URL:https://cevi-dietikon.ch/event/cevi-33
LOCATION:Treffpunkt Männer: Ref. Kirche Dietikon / Treffpunkt Frauen: Ref. Kirchgemeindehaus Dietikon (unterer Eingang)
CATEGORIES:Cevi-Programm
END:VEVENT
BEGIN:VEVENT
DTSTART;TZID=Europe/Zurich:20250513T183000
DTEND;TZID=Europe/Zurich:20250513T203000
DTSTAMP:20260422T042409
CREATED:20240930T210715Z
LAST-MODIFIED:20240930T210715Z
UID:30256-1747161000-1747168200@cevi-dietikon.ch
SUMMARY:Cevi GV & Mixhöck
DESCRIPTION:
URL:https://cevi-dietikon.ch/event/cevi-gv-mixhoeck
LOCATION:Mastwurf\, Bremgartnerstrasse 47\, 8953 Dietikon\, Schweiz
CATEGORIES:Leiterveranstaltung,öffentliche Veranstaltung
END:VEVENT
BEGIN:VEVENT
DTSTART;TZID=Europe/Zurich:20250524T140000
DTEND;TZID=Europe/Zurich:20250524T170000
DTSTAMP:20260422T042409
CREATED:20240930T210737Z
LAST-MODIFIED:20240930T210737Z
UID:30258-1748095200-1748106000@cevi-dietikon.ch
SUMMARY:Cevi
DESCRIPTION:
URL:https://cevi-dietikon.ch/event/cevi-34
LOCATION:Treffpunkt Männer: Ref. Kirche Dietikon / Treffpunkt Frauen: Ref. Kirchgemeindehaus Dietikon (unterer Eingang)
CATEGORIES:Cevi-Programm
END:VEVENT
END:VCALENDAR