BEGIN:VCALENDAR
VERSION:2.0
PRODID:-//Cevi Dietikon - ECPv6.15.17//NONSGML v1.0//EN
CALSCALE:GREGORIAN
METHOD:PUBLISH
X-ORIGINAL-URL:https://cevi-dietikon.ch
X-WR-CALDESC:Veranstaltungen für Cevi Dietikon
REFRESH-INTERVAL;VALUE=DURATION:PT1H
X-Robots-Tag:noindex
X-PUBLISHED-TTL:PT1H
BEGIN:VTIMEZONE
TZID:Europe/Zurich
BEGIN:DAYLIGHT
TZOFFSETFROM:+0100
TZOFFSETTO:+0200
TZNAME:CEST
DTSTART:20230326T010000
END:DAYLIGHT
BEGIN:STANDARD
TZOFFSETFROM:+0200
TZOFFSETTO:+0100
TZNAME:CET
DTSTART:20231029T010000
END:STANDARD
BEGIN:DAYLIGHT
TZOFFSETFROM:+0100
TZOFFSETTO:+0200
TZNAME:CEST
DTSTART:20240331T010000
END:DAYLIGHT
BEGIN:STANDARD
TZOFFSETFROM:+0200
TZOFFSETTO:+0100
TZNAME:CET
DTSTART:20241027T010000
END:STANDARD
BEGIN:DAYLIGHT
TZOFFSETFROM:+0100
TZOFFSETTO:+0200
TZNAME:CEST
DTSTART:20250330T010000
END:DAYLIGHT
BEGIN:STANDARD
TZOFFSETFROM:+0200
TZOFFSETTO:+0100
TZNAME:CET
DTSTART:20251026T010000
END:STANDARD
END:VTIMEZONE
BEGIN:VEVENT
DTSTART;TZID=Europe/Zurich:20240914T140000
DTEND;TZID=Europe/Zurich:20240914T170000
DTSTAMP:20260422T165236
CREATED:20240213T170748Z
LAST-MODIFIED:20240213T170748Z
UID:29853-1726322400-1726333200@cevi-dietikon.ch
SUMMARY:Cevi
DESCRIPTION:
URL:https://cevi-dietikon.ch/event/cevi-21
LOCATION:Treffpunkt Männer: Ref. Kirche Dietikon / Treffpunkt Frauen: Ref. Kirchgemeindehaus Dietikon (unterer Eingang)
CATEGORIES:Cevi-Programm
END:VEVENT
BEGIN:VEVENT
DTSTART;TZID=Europe/Zurich:20240921T080000
DTEND;TZID=Europe/Zurich:20240921T153000
DTSTAMP:20260422T165236
CREATED:20240213T170824Z
LAST-MODIFIED:20240213T170824Z
UID:29855-1726905600-1726932600@cevi-dietikon.ch
SUMMARY:Papiersammlung
DESCRIPTION:
URL:https://cevi-dietikon.ch/event/papiersammlung-3
LOCATION:Dietikon
CATEGORIES:öffentliche Veranstaltung
END:VEVENT
BEGIN:VEVENT
DTSTART;TZID=Europe/Zurich:20240927T170000
DTEND;TZID=Europe/Zurich:20240928T235900
DTSTAMP:20260422T165236
CREATED:20240213T170910Z
LAST-MODIFIED:20240213T170910Z
UID:29857-1727456400-1727567940@cevi-dietikon.ch
SUMMARY:Cevi-Jubiläum
DESCRIPTION:
URL:https://cevi-dietikon.ch/event/cevi-jubilaeum
LOCATION:Ref. Kirchgemeindehaus Dietikon\, Poststrasse 50\, 8953 Dietikon\, Schweiz
CATEGORIES:öffentliche Veranstaltung
END:VEVENT
END:VCALENDAR