BEGIN:VCALENDAR
VERSION:2.0
PRODID:-//Cevi Dietikon - ECPv6.15.17//NONSGML v1.0//EN
CALSCALE:GREGORIAN
METHOD:PUBLISH
X-ORIGINAL-URL:https://cevi-dietikon.ch
X-WR-CALDESC:Veranstaltungen für Cevi Dietikon
REFRESH-INTERVAL;VALUE=DURATION:PT1H
X-Robots-Tag:noindex
X-PUBLISHED-TTL:PT1H
BEGIN:VTIMEZONE
TZID:Europe/Zurich
BEGIN:DAYLIGHT
TZOFFSETFROM:+0100
TZOFFSETTO:+0200
TZNAME:CEST
DTSTART:20230326T010000
END:DAYLIGHT
BEGIN:STANDARD
TZOFFSETFROM:+0200
TZOFFSETTO:+0100
TZNAME:CET
DTSTART:20231029T010000
END:STANDARD
BEGIN:DAYLIGHT
TZOFFSETFROM:+0100
TZOFFSETTO:+0200
TZNAME:CEST
DTSTART:20240331T010000
END:DAYLIGHT
BEGIN:STANDARD
TZOFFSETFROM:+0200
TZOFFSETTO:+0100
TZNAME:CET
DTSTART:20241027T010000
END:STANDARD
BEGIN:DAYLIGHT
TZOFFSETFROM:+0100
TZOFFSETTO:+0200
TZNAME:CEST
DTSTART:20250330T010000
END:DAYLIGHT
BEGIN:STANDARD
TZOFFSETFROM:+0200
TZOFFSETTO:+0100
TZNAME:CET
DTSTART:20251026T010000
END:STANDARD
END:VTIMEZONE
BEGIN:VEVENT
DTSTART;TZID=Europe/Zurich:20240823T183000
DTEND;TZID=Europe/Zurich:20240825T150000
DTSTAMP:20260422T184051
CREATED:20240213T170650Z
LAST-MODIFIED:20240213T170650Z
UID:29849-1724437800-1724598000@cevi-dietikon.ch
SUMMARY:Teamweekend
DESCRIPTION:nur für Leiter:innen!
URL:https://cevi-dietikon.ch/event/teamweekend-3
LOCATION:noch offen
CATEGORIES:Leiterveranstaltung
END:VEVENT
BEGIN:VEVENT
DTSTART;TZID=Europe/Zurich:20240831T140000
DTEND;TZID=Europe/Zurich:20240831T170000
DTSTAMP:20260422T184051
CREATED:20240213T170720Z
LAST-MODIFIED:20240213T170720Z
UID:29851-1725112800-1725123600@cevi-dietikon.ch
SUMMARY:Cevi
DESCRIPTION:
URL:https://cevi-dietikon.ch/event/cevi-20
LOCATION:Treffpunkt Männer: Ref. Kirche Dietikon / Treffpunkt Frauen: Ref. Kirchgemeindehaus Dietikon (unterer Eingang)
CATEGORIES:Cevi-Programm
END:VEVENT
END:VCALENDAR