BEGIN:VCALENDAR
VERSION:2.0
PRODID:-//Cevi Dietikon - ECPv6.15.17//NONSGML v1.0//EN
CALSCALE:GREGORIAN
METHOD:PUBLISH
X-WR-CALNAME:Cevi Dietikon
X-ORIGINAL-URL:https://cevi-dietikon.ch
X-WR-CALDESC:Veranstaltungen für Cevi Dietikon
REFRESH-INTERVAL;VALUE=DURATION:PT1H
X-Robots-Tag:noindex
X-PUBLISHED-TTL:PT1H
BEGIN:VTIMEZONE
TZID:Europe/Zurich
BEGIN:DAYLIGHT
TZOFFSETFROM:+0100
TZOFFSETTO:+0200
TZNAME:CEST
DTSTART:20230326T010000
END:DAYLIGHT
BEGIN:STANDARD
TZOFFSETFROM:+0200
TZOFFSETTO:+0100
TZNAME:CET
DTSTART:20231029T010000
END:STANDARD
BEGIN:DAYLIGHT
TZOFFSETFROM:+0100
TZOFFSETTO:+0200
TZNAME:CEST
DTSTART:20240331T010000
END:DAYLIGHT
BEGIN:STANDARD
TZOFFSETFROM:+0200
TZOFFSETTO:+0100
TZNAME:CET
DTSTART:20241027T010000
END:STANDARD
BEGIN:DAYLIGHT
TZOFFSETFROM:+0100
TZOFFSETTO:+0200
TZNAME:CEST
DTSTART:20250330T010000
END:DAYLIGHT
BEGIN:STANDARD
TZOFFSETFROM:+0200
TZOFFSETTO:+0100
TZNAME:CET
DTSTART:20251026T010000
END:STANDARD
END:VTIMEZONE
BEGIN:VEVENT
DTSTART;TZID=Europe/Zurich:20240608T090000
DTEND;TZID=Europe/Zurich:20240608T140000
DTSTAMP:20260422T215308
CREATED:20240213T170252Z
LAST-MODIFIED:20240213T170252Z
UID:29837-1717837200-1717855200@cevi-dietikon.ch
SUMMARY:Zopfbackaktion
DESCRIPTION:
URL:https://cevi-dietikon.ch/event/zopfbackaktion-3
LOCATION:Ref. Kirchgemeindehaus Dietikon\, Poststrasse 50\, 8953 Dietikon\, Schweiz
CATEGORIES:öffentliche Veranstaltung
END:VEVENT
BEGIN:VEVENT
DTSTART;TZID=Europe/Zurich:20240608T140000
DTEND;TZID=Europe/Zurich:20240608T170000
DTSTAMP:20260422T215308
CREATED:20240213T170214Z
LAST-MODIFIED:20240213T170214Z
UID:29835-1717855200-1717866000@cevi-dietikon.ch
SUMMARY:Cevi
DESCRIPTION:
URL:https://cevi-dietikon.ch/event/cevi-17
LOCATION:Treffpunkt Männer: Ref. Kirche Dietikon / Treffpunkt Frauen: Ref. Kirchgemeindehaus Dietikon (unterer Eingang)
CATEGORIES:Cevi-Programm
END:VEVENT
BEGIN:VEVENT
DTSTART;TZID=Europe/Zurich:20240615T090000
DTEND;TZID=Europe/Zurich:20240615T140000
DTSTAMP:20260422T215308
CREATED:20240213T170331Z
LAST-MODIFIED:20240213T170331Z
UID:29839-1718442000-1718460000@cevi-dietikon.ch
SUMMARY:Putztag
DESCRIPTION:nur für Leiter:innen!
URL:https://cevi-dietikon.ch/event/putztag-5
LOCATION:Matraum\, Bremgartnerstrasse 47\, 8953 Dietikon\, Schweiz
CATEGORIES:Leiterveranstaltung
END:VEVENT
BEGIN:VEVENT
DTSTART;TZID=Europe/Zurich:20240622T140000
DTEND;TZID=Europe/Zurich:20240622T170000
DTSTAMP:20260422T215308
CREATED:20240213T170412Z
LAST-MODIFIED:20240213T170412Z
UID:29841-1719064800-1719075600@cevi-dietikon.ch
SUMMARY:Cevi
DESCRIPTION:
URL:https://cevi-dietikon.ch/event/cevi-18
LOCATION:Treffpunkt Männer: Ref. Kirche Dietikon / Treffpunkt Frauen: Ref. Kirchgemeindehaus Dietikon (unterer Eingang)
CATEGORIES:Cevi-Programm
END:VEVENT
END:VCALENDAR