BEGIN:VCALENDAR
VERSION:2.0
PRODID:-//Cevi Dietikon - ECPv6.15.17//NONSGML v1.0//EN
CALSCALE:GREGORIAN
METHOD:PUBLISH
X-WR-CALNAME:Cevi Dietikon
X-ORIGINAL-URL:https://cevi-dietikon.ch
X-WR-CALDESC:Veranstaltungen für Cevi Dietikon
REFRESH-INTERVAL;VALUE=DURATION:PT1H
X-Robots-Tag:noindex
X-PUBLISHED-TTL:PT1H
BEGIN:VTIMEZONE
TZID:Europe/Zurich
BEGIN:DAYLIGHT
TZOFFSETFROM:+0100
TZOFFSETTO:+0200
TZNAME:CEST
DTSTART:20230326T010000
END:DAYLIGHT
BEGIN:STANDARD
TZOFFSETFROM:+0200
TZOFFSETTO:+0100
TZNAME:CET
DTSTART:20231029T010000
END:STANDARD
BEGIN:DAYLIGHT
TZOFFSETFROM:+0100
TZOFFSETTO:+0200
TZNAME:CEST
DTSTART:20240331T010000
END:DAYLIGHT
BEGIN:STANDARD
TZOFFSETFROM:+0200
TZOFFSETTO:+0100
TZNAME:CET
DTSTART:20241027T010000
END:STANDARD
BEGIN:DAYLIGHT
TZOFFSETFROM:+0100
TZOFFSETTO:+0200
TZNAME:CEST
DTSTART:20250330T010000
END:DAYLIGHT
BEGIN:STANDARD
TZOFFSETFROM:+0200
TZOFFSETTO:+0100
TZNAME:CET
DTSTART:20251026T010000
END:STANDARD
END:VTIMEZONE
BEGIN:VEVENT
DTSTART;TZID=Europe/Zurich:20240302T140000
DTEND;TZID=Europe/Zurich:20240302T170000
DTSTAMP:20260423T024430
CREATED:20240213T165520Z
LAST-MODIFIED:20240213T165520Z
UID:29816-1709388000-1709398800@cevi-dietikon.ch
SUMMARY:Cevi
DESCRIPTION:
URL:https://cevi-dietikon.ch/event/cevi-14
LOCATION:Treffpunkt Männer: Ref. Kirche Dietikon / Treffpunkt Frauen: Ref. Kirchgemeindehaus Dietikon (unterer Eingang)
CATEGORIES:Cevi-Programm
END:VEVENT
BEGIN:VEVENT
DTSTART;TZID=Europe/Zurich:20240309T090000
DTEND;TZID=Europe/Zurich:20240309T140000
DTSTAMP:20260423T024430
CREATED:20240213T165603Z
LAST-MODIFIED:20240213T165603Z
UID:29818-1709974800-1709992800@cevi-dietikon.ch
SUMMARY:Cevi-Flohmi
DESCRIPTION:
URL:https://cevi-dietikon.ch/event/cevi-flohmi-2
LOCATION:Ref. Kirchgemeindehaus Dietikon\, Poststrasse 50\, 8953 Dietikon\, Schweiz
CATEGORIES:öffentliche Veranstaltung
END:VEVENT
BEGIN:VEVENT
DTSTART;TZID=Europe/Zurich:20240315T183000
DTEND;TZID=Europe/Zurich:20240317T180000
DTSTAMP:20260423T024430
CREATED:20240213T165659Z
LAST-MODIFIED:20240213T165659Z
UID:29821-1710527400-1710698400@cevi-dietikon.ch
SUMMARY:Skiweekend
DESCRIPTION:nur für Leiter:innen!
URL:https://cevi-dietikon.ch/event/skiweekend-3
LOCATION:Flumserberg
CATEGORIES:Leiterveranstaltung
END:VEVENT
BEGIN:VEVENT
DTSTART;TZID=Europe/Zurich:20240319T190000
DTEND;TZID=Europe/Zurich:20240319T203000
DTSTAMP:20260423T024430
CREATED:20240213T165751Z
LAST-MODIFIED:20240213T165751Z
UID:29823-1710874800-1710880200@cevi-dietikon.ch
SUMMARY:Mixhöck
DESCRIPTION:nur für Leiter:innen!
URL:https://cevi-dietikon.ch/event/mixhoeck-11
LOCATION:Mastwurf\, Bremgartnerstrasse 47\, 8953 Dietikon\, Schweiz
CATEGORIES:Leiterveranstaltung
END:VEVENT
BEGIN:VEVENT
DTSTART;TZID=Europe/Zurich:20240323T140000
DTEND;TZID=Europe/Zurich:20240323T170000
DTSTAMP:20260423T024430
CREATED:20240213T165848Z
LAST-MODIFIED:20240213T165848Z
UID:29825-1711202400-1711213200@cevi-dietikon.ch
SUMMARY:Cevi
DESCRIPTION:
URL:https://cevi-dietikon.ch/event/cevi-15
LOCATION:Treffpunkt Männer: Ref. Kirche Dietikon / Treffpunkt Frauen: Ref. Kirchgemeindehaus Dietikon (unterer Eingang)
CATEGORIES:Cevi-Programm
END:VEVENT
END:VCALENDAR