BEGIN:VCALENDAR
VERSION:2.0
PRODID:-//Cevi Dietikon - ECPv6.15.17//NONSGML v1.0//EN
CALSCALE:GREGORIAN
METHOD:PUBLISH
X-WR-CALNAME:Cevi Dietikon
X-ORIGINAL-URL:https://cevi-dietikon.ch
X-WR-CALDESC:Veranstaltungen für Cevi Dietikon
REFRESH-INTERVAL;VALUE=DURATION:PT1H
X-Robots-Tag:noindex
X-PUBLISHED-TTL:PT1H
BEGIN:VTIMEZONE
TZID:Europe/Zurich
BEGIN:DAYLIGHT
TZOFFSETFROM:+0100
TZOFFSETTO:+0200
TZNAME:CEST
DTSTART:20240331T010000
END:DAYLIGHT
BEGIN:STANDARD
TZOFFSETFROM:+0200
TZOFFSETTO:+0100
TZNAME:CET
DTSTART:20241027T010000
END:STANDARD
BEGIN:DAYLIGHT
TZOFFSETFROM:+0100
TZOFFSETTO:+0200
TZNAME:CEST
DTSTART:20250330T010000
END:DAYLIGHT
BEGIN:STANDARD
TZOFFSETFROM:+0200
TZOFFSETTO:+0100
TZNAME:CET
DTSTART:20251026T010000
END:STANDARD
BEGIN:DAYLIGHT
TZOFFSETFROM:+0100
TZOFFSETTO:+0200
TZNAME:CEST
DTSTART:20260329T010000
END:DAYLIGHT
BEGIN:STANDARD
TZOFFSETFROM:+0200
TZOFFSETTO:+0100
TZNAME:CET
DTSTART:20261025T010000
END:STANDARD
BEGIN:DAYLIGHT
TZOFFSETFROM:+0100
TZOFFSETTO:+0200
TZNAME:CEST
DTSTART:20270328T010000
END:DAYLIGHT
BEGIN:STANDARD
TZOFFSETFROM:+0200
TZOFFSETTO:+0100
TZNAME:CET
DTSTART:20271031T010000
END:STANDARD
END:VTIMEZONE
BEGIN:VEVENT
DTSTART;TZID=Europe/Zurich:20260411T140000
DTEND;TZID=Europe/Zurich:20260411T170000
DTSTAMP:20260421T120833
CREATED:20260204T232153Z
LAST-MODIFIED:20260204T232153Z
UID:31003-1775916000-1775926800@cevi-dietikon.ch
SUMMARY:Cevi & Fröschli
DESCRIPTION:
URL:https://cevi-dietikon.ch/event/cevi-froeschli-28
LOCATION:Treffpunkt Männer: Ref. Kirche Dietikon / Treffpunkt Frauen: Ref. Kirchgemeindehaus Dietikon (unterer Eingang)
CATEGORIES:Cevi-Programm,Fröschli-Programm
END:VEVENT
BEGIN:VEVENT
DTSTART;TZID=Europe/Zurich:20260328T140000
DTEND;TZID=Europe/Zurich:20260328T170000
DTSTAMP:20260421T120833
CREATED:20260204T232119Z
LAST-MODIFIED:20260204T232119Z
UID:31001-1774706400-1774717200@cevi-dietikon.ch
SUMMARY:Cevi & Fröschli
DESCRIPTION:
URL:https://cevi-dietikon.ch/event/cevi-froeschli-27
LOCATION:Treffpunkt Männer: Ref. Kirche Dietikon / Treffpunkt Frauen: Ref. Kirchgemeindehaus Dietikon (unterer Eingang)
CATEGORIES:Cevi-Programm,Fröschli-Programm
END:VEVENT
BEGIN:VEVENT
DTSTART;TZID=Europe/Zurich:20260317T190000
DTEND;TZID=Europe/Zurich:20260317T203000
DTSTAMP:20260421T120833
CREATED:20260204T232045Z
LAST-MODIFIED:20260204T232045Z
UID:30999-1773774000-1773779400@cevi-dietikon.ch
SUMMARY:Mixhöck
DESCRIPTION:nur für Leiter:innen
URL:https://cevi-dietikon.ch/event/mixhoeck-18
LOCATION:Mastwurf\, Bremgartnerstrasse 47\, 8953 Dietikon\, Schweiz
CATEGORIES:Leiterveranstaltung
END:VEVENT
BEGIN:VEVENT
DTSTART;TZID=Europe/Zurich:20260313T190000
DTEND;TZID=Europe/Zurich:20260315T180000
DTSTAMP:20260421T120833
CREATED:20260204T232010Z
LAST-MODIFIED:20260204T232010Z
UID:30997-1773428400-1773597600@cevi-dietikon.ch
SUMMARY:Skiweekend
DESCRIPTION:nur für Leiter:innen
URL:https://cevi-dietikon.ch/event/skiweekend-5
LOCATION:Flumserberg
CATEGORIES:Leiterveranstaltung
END:VEVENT
BEGIN:VEVENT
DTSTART;TZID=Europe/Zurich:20260307T090000
DTEND;TZID=Europe/Zurich:20260307T140000
DTSTAMP:20260421T120833
CREATED:20260204T231740Z
LAST-MODIFIED:20260204T231740Z
UID:30995-1772874000-1772892000@cevi-dietikon.ch
SUMMARY:Cevi-Flohmarkt
DESCRIPTION:
URL:https://cevi-dietikon.ch/event/cevi-flohmarkt-2
LOCATION:Ref. Kirchgemeindehaus Dietikon\, Poststrasse 50\, 8953 Dietikon\, Schweiz
CATEGORIES:öffentliche Veranstaltung
END:VEVENT
BEGIN:VEVENT
DTSTART;TZID=Europe/Zurich:20260228T140000
DTEND;TZID=Europe/Zurich:20260228T170000
DTSTAMP:20260421T120833
CREATED:20260204T231703Z
LAST-MODIFIED:20260204T231703Z
UID:30993-1772287200-1772298000@cevi-dietikon.ch
SUMMARY:Cevi & Fröschli
DESCRIPTION:
URL:https://cevi-dietikon.ch/event/cevi-froeschli-26
LOCATION:Treffpunkt Männer: Ref. Kirche Dietikon / Treffpunkt Frauen: Ref. Kirchgemeindehaus Dietikon (unterer Eingang)
CATEGORIES:Cevi-Programm,Fröschli-Programm
END:VEVENT
BEGIN:VEVENT
DTSTART;TZID=Europe/Zurich:20260131T140000
DTEND;TZID=Europe/Zurich:20260131T170000
DTSTAMP:20260421T120833
CREATED:20260204T231615Z
LAST-MODIFIED:20260204T231615Z
UID:30991-1769868000-1769878800@cevi-dietikon.ch
SUMMARY:Cevi & Fröschli
DESCRIPTION:
URL:https://cevi-dietikon.ch/event/cevi-froeschli-25
LOCATION:Treffpunkt Männer: Ref. Kirche Dietikon / Treffpunkt Frauen: Ref. Kirchgemeindehaus Dietikon (unterer Eingang)
CATEGORIES:Cevi-Programm,Fröschli-Programm
END:VEVENT
BEGIN:VEVENT
DTSTART;TZID=Europe/Zurich:20260124T140000
DTEND;TZID=Europe/Zurich:20260124T170000
DTSTAMP:20260421T120833
CREATED:20260204T231537Z
LAST-MODIFIED:20260204T231537Z
UID:30989-1769263200-1769274000@cevi-dietikon.ch
SUMMARY:Cevi
DESCRIPTION:
URL:https://cevi-dietikon.ch/event/cevi-45
LOCATION:Treffpunkt Männer: Ref. Kirche Dietikon / Treffpunkt Frauen: Ref. Kirchgemeindehaus Dietikon (unterer Eingang)
CATEGORIES:Cevi-Programm
END:VEVENT
BEGIN:VEVENT
DTSTART;TZID=Europe/Zurich:20260113T190000
DTEND;TZID=Europe/Zurich:20260113T203000
DTSTAMP:20260421T120833
CREATED:20260204T231451Z
LAST-MODIFIED:20260204T231451Z
UID:30987-1768330800-1768336200@cevi-dietikon.ch
SUMMARY:Mixhöck
DESCRIPTION:nur für Leiter:innen
URL:https://cevi-dietikon.ch/event/mixhoeck-17
LOCATION:Mastwurf\, Bremgartnerstrasse 47\, 8953 Dietikon\, Schweiz
CATEGORIES:Leiterveranstaltung
END:VEVENT
BEGIN:VEVENT
DTSTART;TZID=Europe/Zurich:20260110T140000
DTEND;TZID=Europe/Zurich:20260110T170000
DTSTAMP:20260421T120833
CREATED:20260204T231400Z
LAST-MODIFIED:20260204T231400Z
UID:30984-1768053600-1768064400@cevi-dietikon.ch
SUMMARY:Cevi
DESCRIPTION:
URL:https://cevi-dietikon.ch/event/cevi-44
LOCATION:Treffpunkt Männer: Ref. Kirche Dietikon / Treffpunkt Frauen: Ref. Kirchgemeindehaus Dietikon (unterer Eingang)
CATEGORIES:Cevi-Programm
END:VEVENT
BEGIN:VEVENT
DTSTART;TZID=Europe/Zurich:20251214T163000
DTEND;TZID=Europe/Zurich:20251214T183000
DTSTAMP:20260421T120833
CREATED:20240930T211701Z
LAST-MODIFIED:20240930T211701Z
UID:30298-1765729800-1765737000@cevi-dietikon.ch
SUMMARY:Cevi-Weihnachtsspiel
DESCRIPTION:
URL:https://cevi-dietikon.ch/event/cevi-weihnachtsspiel-4
LOCATION:Ref. Kirchgemeindehaus Dietikon\, Poststrasse 50\, 8953 Dietikon\, Schweiz
CATEGORIES:öffentliche Veranstaltung
END:VEVENT
BEGIN:VEVENT
DTSTART;TZID=Europe/Zurich:20251213T173000
DTEND;TZID=Europe/Zurich:20251213T193000
DTSTAMP:20260421T120833
CREATED:20240930T211636Z
LAST-MODIFIED:20240930T211636Z
UID:30296-1765647000-1765654200@cevi-dietikon.ch
SUMMARY:Cevi-Waldweihnacht
DESCRIPTION:
URL:https://cevi-dietikon.ch/event/cevi-waldweihnacht-4
LOCATION:Ref. Kirche Dietikon\, Sonneggstrasse\, 8953 Dietikon\, Schweiz
CATEGORIES:öffentliche Veranstaltung
END:VEVENT
BEGIN:VEVENT
DTSTART;TZID=Europe/Zurich:20251213T140000
DTEND;TZID=Europe/Zurich:20251213T170000
DTSTAMP:20260421T120833
CREATED:20240930T211607Z
LAST-MODIFIED:20240930T211607Z
UID:30294-1765634400-1765645200@cevi-dietikon.ch
SUMMARY:Cevi
DESCRIPTION:
URL:https://cevi-dietikon.ch/event/cevi-43
LOCATION:Treffpunkt Männer: Ref. Kirche Dietikon / Treffpunkt Frauen: Ref. Kirchgemeindehaus Dietikon (unterer Eingang)
CATEGORIES:Cevi-Programm
END:VEVENT
BEGIN:VEVENT
DTSTART;TZID=Europe/Zurich:20251206T140000
DTEND;TZID=Europe/Zurich:20251206T170000
DTSTAMP:20260421T120833
CREATED:20240930T211542Z
LAST-MODIFIED:20240930T211542Z
UID:30292-1765029600-1765040400@cevi-dietikon.ch
SUMMARY:Cevi
DESCRIPTION:
URL:https://cevi-dietikon.ch/event/cevi-42
LOCATION:Treffpunkt Männer: Ref. Kirche Dietikon / Treffpunkt Frauen: Ref. Kirchgemeindehaus Dietikon (unterer Eingang)
CATEGORIES:Cevi-Programm
END:VEVENT
BEGIN:VEVENT
DTSTART;TZID=Europe/Zurich:20251128T170000
DTEND;TZID=Europe/Zurich:20251130T200000
DTSTAMP:20260421T120833
CREATED:20240930T211519Z
LAST-MODIFIED:20240930T211519Z
UID:30290-1764349200-1764532800@cevi-dietikon.ch
SUMMARY:Cevi Raclette-Stube am Dietiker Weihnachtsmarkt
DESCRIPTION:
URL:https://cevi-dietikon.ch/event/cevi-raclette-stube-am-dietiker-weihnachtsmarkt-2
LOCATION:Dietikon
CATEGORIES:öffentliche Veranstaltung
END:VEVENT
BEGIN:VEVENT
DTSTART;TZID=Europe/Zurich:20251122T140000
DTEND;TZID=Europe/Zurich:20251122T170000
DTSTAMP:20260421T120833
CREATED:20240930T211414Z
LAST-MODIFIED:20240930T211414Z
UID:30288-1763820000-1763830800@cevi-dietikon.ch
SUMMARY:Cevi
DESCRIPTION:
URL:https://cevi-dietikon.ch/event/cevi-41
LOCATION:Treffpunkt Männer: Ref. Kirche Dietikon / Treffpunkt Frauen: Ref. Kirchgemeindehaus Dietikon (unterer Eingang)
CATEGORIES:Cevi-Programm
END:VEVENT
BEGIN:VEVENT
DTSTART;TZID=Europe/Zurich:20251108T140000
DTEND;TZID=Europe/Zurich:20251108T170000
DTSTAMP:20260421T120833
CREATED:20240930T211352Z
LAST-MODIFIED:20240930T211352Z
UID:30286-1762610400-1762621200@cevi-dietikon.ch
SUMMARY:Cevi
DESCRIPTION:
URL:https://cevi-dietikon.ch/event/cevi-40
LOCATION:Treffpunkt Männer: Ref. Kirche Dietikon / Treffpunkt Frauen: Ref. Kirchgemeindehaus Dietikon (unterer Eingang)
CATEGORIES:Cevi-Programm
END:VEVENT
BEGIN:VEVENT
DTSTART;TZID=Europe/Zurich:20251028T190000
DTEND;TZID=Europe/Zurich:20251028T203000
DTSTAMP:20260421T120833
CREATED:20240930T211328Z
LAST-MODIFIED:20240930T211328Z
UID:30284-1761678000-1761683400@cevi-dietikon.ch
SUMMARY:Mixhöck
DESCRIPTION:nur für Leiter:innen!
URL:https://cevi-dietikon.ch/event/mixhoeck-16
LOCATION:Mastwurf\, Bremgartnerstrasse 47\, 8953 Dietikon\, Schweiz
CATEGORIES:Leiterveranstaltung
END:VEVENT
BEGIN:VEVENT
DTSTART;TZID=Europe/Zurich:20251025T140000
DTEND;TZID=Europe/Zurich:20251025T170000
DTSTAMP:20260421T120833
CREATED:20240930T211303Z
LAST-MODIFIED:20240930T211303Z
UID:30282-1761400800-1761411600@cevi-dietikon.ch
SUMMARY:Cevi
DESCRIPTION:
URL:https://cevi-dietikon.ch/event/cevi-39
LOCATION:Treffpunkt Männer: Ref. Kirche Dietikon / Treffpunkt Frauen: Ref. Kirchgemeindehaus Dietikon (unterer Eingang)
CATEGORIES:Cevi-Programm
END:VEVENT
BEGIN:VEVENT
DTSTART;TZID=Europe/Zurich:20250920T140000
DTEND;TZID=Europe/Zurich:20250920T170000
DTSTAMP:20260421T120833
CREATED:20240930T211238Z
LAST-MODIFIED:20240930T211238Z
UID:30280-1758376800-1758387600@cevi-dietikon.ch
SUMMARY:Cevi
DESCRIPTION:
URL:https://cevi-dietikon.ch/event/cevi-38
LOCATION:Treffpunkt Männer: Ref. Kirche Dietikon / Treffpunkt Frauen: Ref. Kirchgemeindehaus Dietikon (unterer Eingang)
CATEGORIES:Cevi-Programm
END:VEVENT
BEGIN:VEVENT
DTSTART;VALUE=DATE:20250905
DTEND;VALUE=DATE:20250908
DTSTAMP:20260421T120833
CREATED:20240930T211147Z
LAST-MODIFIED:20240930T211206Z
UID:30277-1757030400-1757289599@cevi-dietikon.ch
SUMMARY:Stadtfest
DESCRIPTION:
URL:https://cevi-dietikon.ch/event/stadtfest
LOCATION:Dietikon
CATEGORIES:öffentliche Veranstaltung
END:VEVENT
BEGIN:VEVENT
DTSTART;TZID=Europe/Zurich:20250830T140000
DTEND;TZID=Europe/Zurich:20250830T170000
DTSTAMP:20260421T120833
CREATED:20240930T211121Z
LAST-MODIFIED:20240930T211121Z
UID:30275-1756562400-1756573200@cevi-dietikon.ch
SUMMARY:Cevi
DESCRIPTION:
URL:https://cevi-dietikon.ch/event/cevi-37
LOCATION:Treffpunkt Männer: Ref. Kirche Dietikon / Treffpunkt Frauen: Ref. Kirchgemeindehaus Dietikon (unterer Eingang)
CATEGORIES:Cevi-Programm
END:VEVENT
BEGIN:VEVENT
DTSTART;TZID=Europe/Zurich:20250822T190000
DTEND;TZID=Europe/Zurich:20250824T150000
DTSTAMP:20260421T120833
CREATED:20240930T211100Z
LAST-MODIFIED:20240930T211100Z
UID:30273-1755889200-1756047600@cevi-dietikon.ch
SUMMARY:Teamweekend
DESCRIPTION:nur für Leiter:innen!
URL:https://cevi-dietikon.ch/event/teamweekend-4
LOCATION:noch offen
CATEGORIES:Leiterveranstaltung
END:VEVENT
BEGIN:VEVENT
DTSTART;TZID=Europe/Zurich:20250816T074500
DTEND;TZID=Europe/Zurich:20250816T160000
DTSTAMP:20260421T120833
CREATED:20240930T211030Z
LAST-MODIFIED:20240930T211030Z
UID:30271-1755330300-1755360000@cevi-dietikon.ch
SUMMARY:Papiersammlung
DESCRIPTION:
URL:https://cevi-dietikon.ch/event/papiersammlung-4
LOCATION:Dietikon
CATEGORIES:Leiterveranstaltung,öffentliche Veranstaltung
END:VEVENT
BEGIN:VEVENT
DTSTART;VALUE=DATE:20250712
DTEND;VALUE=DATE:20250720
DTSTAMP:20260421T120833
CREATED:20240930T210952Z
LAST-MODIFIED:20240930T210952Z
UID:30268-1752278400-1752969599@cevi-dietikon.ch
SUMMARY:Sommerlager
DESCRIPTION:
URL:https://cevi-dietikon.ch/event/sommerlager-3
LOCATION:Sedrun
CATEGORIES:Lager
END:VEVENT
BEGIN:VEVENT
DTSTART;TZID=Europe/Zurich:20250705T140000
DTEND;TZID=Europe/Zurich:20250705T170000
DTSTAMP:20260421T120833
CREATED:20240930T210926Z
LAST-MODIFIED:20240930T210926Z
UID:30266-1751724000-1751734800@cevi-dietikon.ch
SUMMARY:Cevi
DESCRIPTION:
URL:https://cevi-dietikon.ch/event/cevi-36
LOCATION:Treffpunkt Männer: Ref. Kirche Dietikon / Treffpunkt Frauen: Ref. Kirchgemeindehaus Dietikon (unterer Eingang)
CATEGORIES:Cevi-Programm
END:VEVENT
BEGIN:VEVENT
DTSTART;TZID=Europe/Zurich:20250621T140000
DTEND;TZID=Europe/Zurich:20250621T170000
DTSTAMP:20260421T120833
CREATED:20240930T210837Z
LAST-MODIFIED:20240930T210837Z
UID:30262-1750514400-1750525200@cevi-dietikon.ch
SUMMARY:Cevi
DESCRIPTION:
URL:https://cevi-dietikon.ch/event/cevi-35
LOCATION:Treffpunkt Männer: Ref. Kirche Dietikon / Treffpunkt Frauen: Ref. Kirchgemeindehaus Dietikon (unterer Eingang)
CATEGORIES:Cevi-Programm
END:VEVENT
BEGIN:VEVENT
DTSTART;TZID=Europe/Zurich:20250621T080000
DTEND;TZID=Europe/Zurich:20250621T140000
DTSTAMP:20260421T120833
CREATED:20240930T210814Z
LAST-MODIFIED:20240930T210814Z
UID:30260-1750492800-1750514400@cevi-dietikon.ch
SUMMARY:Zopfbackaktion
DESCRIPTION:
URL:https://cevi-dietikon.ch/event/zopfbackaktion-4
LOCATION:Ref. Kirchgemeindehaus Dietikon\, Poststrasse 50\, 8953 Dietikon\, Schweiz
CATEGORIES:öffentliche Veranstaltung
END:VEVENT
BEGIN:VEVENT
DTSTART;VALUE=DATE:20250607
DTEND;VALUE=DATE:20250610
DTSTAMP:20260421T120833
CREATED:20240930T210902Z
LAST-MODIFIED:20240930T210902Z
UID:30264-1749254400-1749513599@cevi-dietikon.ch
SUMMARY:Pfingstlager
DESCRIPTION:
URL:https://cevi-dietikon.ch/event/pfingstlager-4
LOCATION:noch offen
CATEGORIES:Lager
END:VEVENT
BEGIN:VEVENT
DTSTART;TZID=Europe/Zurich:20250524T140000
DTEND;TZID=Europe/Zurich:20250524T170000
DTSTAMP:20260421T120833
CREATED:20240930T210737Z
LAST-MODIFIED:20240930T210737Z
UID:30258-1748095200-1748106000@cevi-dietikon.ch
SUMMARY:Cevi
DESCRIPTION:
URL:https://cevi-dietikon.ch/event/cevi-34
LOCATION:Treffpunkt Männer: Ref. Kirche Dietikon / Treffpunkt Frauen: Ref. Kirchgemeindehaus Dietikon (unterer Eingang)
CATEGORIES:Cevi-Programm
END:VEVENT
END:VCALENDAR